Workbook

Sheet Instructions
A1: Texas A&M University School of Law
A2: Extern Program Timesheet
A4: Instructions
A6: 1. Calculate your time in quarter of an hour increments.
B7: Thus: 15 minutes = .25; 30 min. = .5; 45 min. = .75; 1 hour = 1.0
A8: 2. Each Report (tab below) should reflect hours worked over two week reporting periods, approximately.
A9: 3. Only time spent on legal and law-related activities can be counted.Lunch does not count unless discussing issues related to your externship.
A10: 4. In the Code column, do not put more than one code. If you do, the formula will not recognize your time in the summary section of the worksheet.
A11: 5. Your time should be broken down sufficiently to accurately reflect the amount of time you are spending on each specific activity. It should show the time spent on researching versus the time spent on writing a motion.
A12: 6. Allocate your time to each task on a separate line.
A13: 7. It is important that the time you spend with your supervisor is reflected on your timehseets. So please be sure that each meeting with your superivsor is indicated on your timesheet.
A15: 8. Download and save this file to your computer and update it each day you work.
A16: 9. You will send a PDF of your timesheets to your professor.
A17: 10. At mid-term, email your timesheet to your supervisor and request they electronically sign/type their name at the bottom of each reporting period reflecting work completed to date; email the signed PFD to your professor.
A18: 11. At the end of the semester, email your file to your supervisor, requesting they electronically sign/type each report reflecting work completed since mid-term; email the final to your professor.
A19: 12. You may, alternatively, print each report out and ask your supervisor to sign, then scan, save as a PDF, and email to your professor.

Sheet Rpt. 1
B1: Texas A&M University School of Law
B2: Extern Program Timesheet
C4: Only time spent on legal and law-related activites can be counted.
C6: [Type name] | F6: [Type Name]
C7: Student's Name | F7: Supervising Attorney's Name
C9: Report for period beginning | E9: and ending
B11: Date | C11: Issue/Matter | D11: Description of work performed | G11: Code | H11: Time
G38: Total Hours for the Period: | H38: =SUM(H12:H37) -> 0
B41: Activity Codes
B42: 1. Conference w/ Supervisor/co-worker | D42: 6. Investigative & Fact-Finding;non-legal research | F42: 12. Other (Specify)
B43: 2. Conference with Client | D43: 7. Observation
B44: 3. Presentations to supervisor/others | D44: 8. Participant, Courtroom/Non-courtroom
B45: 4. Legal Research & Briefing | D45: 9. Training
B46: 5. Preparation of Pleadings, Transactional & | D46: 10. Organization in Support of Legal Work
B47: Other Documents | D47: 11. Clerical
B50: Summary of Hours Worked:
B51: Code | H51: Hours
B52: =B42 -> 1. Conference w/ Supervisor/co-worker | H52: =SUMIF($G$12:$G$37, "1", $H$12:$H$37) -> 0
B53: =B43 -> 2. Conference with Client | H53: =SUMIF($G$12:$G$37, "2", $H$12:$H$37) -> 0
B54: =B44 -> 3. Presentations to supervisor/others | H54: =SUMIF($G$12:$G$37, "3", $H$12:$H$37) -> 0
B55: =B45 -> 4. Legal Research & Briefing | H55: =SUMIF($G$12:$G$37, "4", $H$12:$H$37) -> 0
B56: =CONCATENATE(B46," ",B47) -> 5. Preparation of Pleadings, Transactional & Other Documents | H56: =SUMIF($G$12:$G$37, "5", $H$12:$H$37) -> 0
B57: =D42 -> 6. Investigative & Fact-Finding;non-legal research | H57: =SUMIF($G$12:$G$37, "6", $H$12:$H$37) -> 0
B58: =D43 -> 7. Observation | H58: =SUMIF($G$12:$G$37, "7", $H$12:$H$37) -> 0
B59: =D44 -> 8. Participant, Courtroom/Non-courtroom | H59: =SUMIF($G$12:$G$37, "8", $H$12:$H$37) -> 0
B60: =D45 -> 9. Training | H60: =SUMIF($G$12:$G$37, "9", $H$12:$H$37) -> 0
B61: =D46 -> 10. Organization in Support of Legal Work | H61: =SUMIF($G$12:$G$37, "10", $H$12:$H$37) -> 0
B62: =D47 -> 11. Clerical | H62: =SUMIF($G$12:$G$37, "11", $H$12:$H$37) -> 0
B63: =F42 -> 12. Other (Specify) | H63: =SUMIF($G$12:$G$37, "12", $H$12:$H$37) -> 0
F64: Total Hours for current period | H64: =SUM(H52:H63) -> 0
F66: Total Hours for semester | H66: =H64 -> 0
C68: Student Signature: | D68: _______________________________________ | F68: Date: ____________
C69: Electronic signature/typed name is fine. By signing/typing your name, you are verifying your recorded hours and activities are true and accurate.
C71: Supervisor Signature: | D71: _____________________________________ | F71: Date: ____________
C72: Electronic signature/typed name is fine. By signing/typing your name, you are verifying that the student's recorded hours and activities look true and accurate.
C75: Hours Required for Credit | D75: Total hours
C76: 2 | D76: 85
C77: 3 | D77: 127.5
C78: 4 | D78: 170
C79: 5 | D79: 212.5
C80: 6 | D80: 255
C81: 9 | D81: 382.5
C82: 10 | D82: 425
C83: 11 | D83: 467.5
C84: 12 | D84: 510

Sheet Rpt. 2
B1: Texas A&M University School of Law
B2: Extern Program Timesheet
C6: ='Rpt. 1'!C6 -> [Type name] | F6: ='Rpt. 1'!F6 -> [Type Name]
C7: Student's Name | F7: Supervising Attorney's Name
C9: Report for period beginning | E9: and ending
B11: Date | C11: Issue/Matter | D11: Description of work performed | G11: Code | H11: Time
G38: Total Hours for the Period: | H38: =SUM(H12:H37) -> 0
B41: Activity Codes
B42: 1. Conference with Supervisor | D42: 6. Investigative & Fact-Finding | F42: 12. Other (Specify)
B43: 2. Conference with Client | D43: 7. Observation
B44: 3. Conference with Other | D44: 8. Participant, Courtroom
B45: 4. Research & Briefing | D45: 9. Participant, Non-Courtroom
B46: 5. Preparation of Pleadings, Transactional & | D46: 10. Organization Support Work
B47: Other Documents | D47: 11. Clerical
B50: Summary of Hours Worked:
B51: Code | H51: Hours
B52: =B42 -> 1. Conference with Supervisor | H52: =SUMIF($G$12:$G$37, "1", $H$12:$H$37) -> 0
B53: =B43 -> 2. Conference with Client | H53: =SUMIF($G$12:$G$37, "2", $H$12:$H$37) -> 0
B54: =B44 -> 3. Conference with Other | H54: =SUMIF($G$12:$G$37, "3", $H$12:$H$37) -> 0
B55: =B45 -> 4. Research & Briefing | H55: =SUMIF($G$12:$G$37, "4", $H$12:$H$37) -> 0
B56: =CONCATENATE(B46," ",B47) -> 5. Preparation of Pleadings, Transactional & Other Documents | H56: =SUMIF($G$12:$G$37, "5", $H$12:$H$37) -> 0
B57: =D42 -> 6. Investigative & Fact-Finding | H57: =SUMIF($G$12:$G$37, "6", $H$12:$H$37) -> 0
B58: =D43 -> 7. Observation | H58: =SUMIF($G$12:$G$37, "7", $H$12:$H$37) -> 0
B59: =D44 -> 8. Participant, Courtroom | H59: =SUMIF($G$12:$G$37, "8", $H$12:$H$37) -> 0
B60: =D45 -> 9. Participant, Non-Courtroom | H60: =SUMIF($G$12:$G$37, "9", $H$12:$H$37) -> 0
B61: =D46 -> 10. Organization Support Work | H61: =SUMIF($G$12:$G$37, "10", $H$12:$H$37) -> 0
B62: =D47 -> 11. Clerical | H62: =SUMIF($G$12:$G$37, "11", $H$12:$H$37) -> 0
B63: =F42 -> 12. Other (Specify) | H63: =SUMIF($G$12:$G$37, "12", $H$12:$H$37) -> 0
F64: Total Hours for current period | H64: =SUM(H52:H63) -> 0
F66: Total Hours for semester | H66: =H64+'Rpt. 1'!H66 -> 0
C68: Student Signature: | D68: _______________________________________ | F68: Date: ____________
C69: Electronic signature/typed name is fine. By signing/typing your name, you are verifying your recorded hours and activities are true and accurate.
C71: Supervisor Signature: | D71: _____________________________________ | F71: Date: ____________
C72: Electronic signature/typed name is fine. By signing/typing your name, you are verifying that the student's recorded hours and activities look true and accurate.
C75: Hours Required for Credit | D75: Externship | E75: Externship Advanced
C76: 2 | D76: 73 | E76: 85
C77: 3 | D77: 116 | E77: 127
C78: 4 | D78: 158 | E78: 170
C79: 5 | D79: 201 | E79: 213
C80: 6 | D80: 243 | E80: 255
C81: 9 | D81: 371 | E81: 383
C82: 10 | D82: 413 | E82: 425
C83: 11 | D83: 456 | E83: 468
C84: 12 | D84: 498 | E84: 510

Sheet Rpt. 3
B1: Texas A&M University School of Law
B2: Extern Program Timesheet
C6: ='Rpt. 1'!C6 -> [Type name] | F6: ='Rpt. 1'!F6 -> [Type Name]
C7: Student's Name | F7: Supervising Attorney's Name
C9: Report for period beginning | E9: and ending
B11: Date | C11: Issue/Matter | D11: Description of work performed | G11: Code | H11: Time
G38: Total Hours for the Period: | H38: =SUM(H12:H37) -> 0
B41: Activity Codes
B42: 1. Conference with Supervisor | D42: 6. Investigative & Fact-Finding | F42: 12. Other (Specify)
B43: 2. Conference with Client | D43: 7. Observation
B44: 3. Conference with Other | D44: 8. Participant, Courtroom
B45: 4. Research & Briefing | D45: 9. Participant, Non-Courtroom
B46: 5. Preparation of Pleadings, Transactional & | D46: 10. Organization Support Work
B47: Other Documents | D47: 11. Clerical
B50: Summary of Hours Worked:
B51: Code | H51: Hours
B52: =B42 -> 1. Conference with Supervisor | H52: =SUMIF($G$12:$G$37, "1", $H$12:$H$37) -> 0
B53: =B43 -> 2. Conference with Client | H53: =SUMIF($G$12:$G$37, "2", $H$12:$H$37) -> 0
B54: =B44 -> 3. Conference with Other | H54: =SUMIF($G$12:$G$37, "3", $H$12:$H$37) -> 0
B55: =B45 -> 4. Research & Briefing | H55: =SUMIF($G$12:$G$37, "4", $H$12:$H$37) -> 0
B56: =CONCATENATE(B46," ",B47) -> 5. Preparation of Pleadings, Transactional & Other Documents | H56: =SUMIF($G$12:$G$37, "5", $H$12:$H$37) -> 0
B57: =D42 -> 6. Investigative & Fact-Finding | H57: =SUMIF($G$12:$G$37, "6", $H$12:$H$37) -> 0
B58: =D43 -> 7. Observation | H58: =SUMIF($G$12:$G$37, "7", $H$12:$H$37) -> 0
B59: =D44 -> 8. Participant, Courtroom | H59: =SUMIF($G$12:$G$37, "8", $H$12:$H$37) -> 0
B60: =D45 -> 9. Participant, Non-Courtroom | H60: =SUMIF($G$12:$G$37, "9", $H$12:$H$37) -> 0
B61: =D46 -> 10. Organization Support Work | H61: =SUMIF($G$12:$G$37, "10", $H$12:$H$37) -> 0
B62: =D47 -> 11. Clerical | H62: =SUMIF($G$12:$G$37, "11", $H$12:$H$37) -> 0
B63: =F42 -> 12. Other (Specify) | H63: =SUMIF($G$12:$G$37, "12", $H$12:$H$37) -> 0
F64: Total Hours for current period | H64: =SUM(H52:H63) -> 0
F66: Total Hours for semester | H66: =H64+'Rpt. 2'!H66 -> 0
C68: Student Signature: | D68: _______________________________________ | F68: Date: ____________
C69: Electronic signature/typed name is fine. By signing/typing your name, you are verifying your recorded hours and activities are true and accurate.
C71: Supervisor Signature: | D71: _____________________________________ | F71: Date: ____________
C72: Electronic signature/typed name is fine. By signing/typing your name, you are verifying that the student's recorded hours and activities look true and accurate.
C75: Hours Required for Credit | D75: Externship | E75: Externship Advanced
C76: 2 | D76: 73 | E76: 85
C77: 3 | D77: 116 | E77: 127
C78: 4 | D78: 158 | E78: 170
C79: 5 | D79: 201 | E79: 213
C80: 6 | D80: 243 | E80: 255
C81: 9 | D81: 371 | E81: 383
C82: 10 | D82: 413 | E82: 425
C83: 11 | D83: 456 | E83: 468
C84: 12 | D84: 498 | E84: 510

Sheet Rpt. 4
B1: Texas A&M University School of Law
B2: Extern Program Timesheet
C6: ='Rpt. 1'!C6 -> [Type name] | F6: ='Rpt. 1'!F6 -> [Type Name]
C7: Student's Name | F7: Supervising Attorney's Name
C9: Report for period beginning | E9: and ending
B11: Date | C11: Issue/Matter | D11: Description of work performed | G11: Code | H11: Time
G38: Total Hours for the Period: | H38: =SUM(H12:H37) -> 0
B41: Activity Codes
B42: 1. Conference with Supervisor | D42: 6. Investigative & Fact-Finding | F42: 12. Other (Specify)
B43: 2. Conference with Client | D43: 7. Observation
B44: 3. Conference with Other | D44: 8. Participant, Courtroom
B45: 4. Research & Briefing | D45: 9. Participant, Non-Courtroom
B46: 5. Preparation of Pleadings, Transactional & | D46: 10. Organization Support Work
B47: Other Documents | D47: 11. Clerical
B50: Summary of Hours Worked:
B51: Code | H51: Hours
B52: =B42 -> 1. Conference with Supervisor | H52: =SUMIF($G$12:$G$37, "1", $H$12:$H$37) -> 0
B53: =B43 -> 2. Conference with Client | H53: =SUMIF($G$12:$G$37, "2", $H$12:$H$37) -> 0
B54: =B44 -> 3. Conference with Other | H54: =SUMIF($G$12:$G$37, "3", $H$12:$H$37) -> 0
B55: =B45 -> 4. Research & Briefing | H55: =SUMIF($G$12:$G$37, "4", $H$12:$H$37) -> 0
B56: =CONCATENATE(B46," ",B47) -> 5. Preparation of Pleadings, Transactional & Other Documents | H56: =SUMIF($G$12:$G$37, "5", $H$12:$H$37) -> 0
B57: =D42 -> 6. Investigative & Fact-Finding | H57: =SUMIF($G$12:$G$37, "6", $H$12:$H$37) -> 0
B58: =D43 -> 7. Observation | H58: =SUMIF($G$12:$G$37, "7", $H$12:$H$37) -> 0
B59: =D44 -> 8. Participant, Courtroom | H59: =SUMIF($G$12:$G$37, "8", $H$12:$H$37) -> 0
B60: =D45 -> 9. Participant, Non-Courtroom | H60: =SUMIF($G$12:$G$37, "9", $H$12:$H$37) -> 0
B61: =D46 -> 10. Organization Support Work | H61: =SUMIF($G$12:$G$37, "10", $H$12:$H$37) -> 0
B62: =D47 -> 11. Clerical | H62: =SUMIF($G$12:$G$37, "11", $H$12:$H$37) -> 0
B63: =F42 -> 12. Other (Specify) | H63: =SUMIF($G$12:$G$37, "12", $H$12:$H$37) -> 0
F64: Total Hours for current period | H64: =SUM(H52:H63) -> 0
F66: Total Hours for semester | H66: =H64+'Rpt. 3'!H66 -> 0
C68: Student Signature: | D68: _______________________________________ | F68: Date: ____________
C69: Electronic signature/typed name is fine. By signing/typing your name, you are verifying your recorded hours and activities are true and accurate.
C71: Supervisor Signature: | D71: _____________________________________ | F71: Date: ____________
C72: Electronic signature/typed name is fine. By signing/typing your name, you are verifying that the student's recorded hours and activities look true and accurate.
C75: Hours Required for Credit | D75: Externship | E75: Externship Advanced
C76: 2 | D76: 73 | E76: 85
C77: 3 | D77: 116 | E77: 127
C78: 4 | D78: 158 | E78: 170
C79: 5 | D79: 201 | E79: 213
C80: 6 | D80: 243 | E80: 255
C81: 9 | D81: 371 | E81: 383
C82: 10 | D82: 413 | E82: 425
C83: 11 | D83: 456 | E83: 468
C84: 12 | D84: 498 | E84: 510

Sheet Rpt. 5
B1: Texas A&M University School of Law
B2: Extern Program Timesheet
C6: ='Rpt. 1'!C6 -> [Type name] | F6: ='Rpt. 1'!F6 -> [Type Name]
C7: Student's Name | F7: Supervising Attorney's Name
C9: Report for period beginning | E9: and ending
B11: Date | C11: Issue/Matter | D11: Description of work performed | G11: Code | H11: Time
G38: Total Hours for the Period: | H38: =SUM(H12:H37) -> 0
B41: Activity Codes
B42: 1. Conference with Supervisor | D42: 6. Investigative & Fact-Finding | F42: 12. Other (Specify)
B43: 2. Conference with Client | D43: 7. Observation
B44: 3. Conference with Other | D44: 8. Participant, Courtroom
B45: 4. Research & Briefing | D45: 9. Participant, Non-Courtroom
B46: 5. Preparation of Pleadings, Transactional & | D46: 10. Organization Support Work
B47: Other Documents | D47: 11. Clerical
B50: Summary of Hours Worked:
B51: Code | H51: Hours
B52: =B42 -> 1. Conference with Supervisor | H52: =SUMIF($G$12:$G$37, "1", $H$12:$H$37) -> 0
B53: =B43 -> 2. Conference with Client | H53: =SUMIF($G$12:$G$37, "2", $H$12:$H$37) -> 0
B54: =B44 -> 3. Conference with Other | H54: =SUMIF($G$12:$G$37, "3", $H$12:$H$37) -> 0
B55: =B45 -> 4. Research & Briefing | H55: =SUMIF($G$12:$G$37, "4", $H$12:$H$37) -> 0
B56: =CONCATENATE(B46," ",B47) -> 5. Preparation of Pleadings, Transactional & Other Documents | H56: =SUMIF($G$12:$G$37, "5", $H$12:$H$37) -> 0
B57: =D42 -> 6. Investigative & Fact-Finding | H57: =SUMIF($G$12:$G$37, "6", $H$12:$H$37) -> 0
B58: =D43 -> 7. Observation | H58: =SUMIF($G$12:$G$37, "7", $H$12:$H$37) -> 0
B59: =D44 -> 8. Participant, Courtroom | H59: =SUMIF($G$12:$G$37, "8", $H$12:$H$37) -> 0
B60: =D45 -> 9. Participant, Non-Courtroom | H60: =SUMIF($G$12:$G$37, "9", $H$12:$H$37) -> 0
B61: =D46 -> 10. Organization Support Work | H61: =SUMIF($G$12:$G$37, "10", $H$12:$H$37) -> 0
B62: =D47 -> 11. Clerical | H62: =SUMIF($G$12:$G$37, "11", $H$12:$H$37) -> 0
B63: =F42 -> 12. Other (Specify) | H63: =SUMIF($G$12:$G$37, "12", $H$12:$H$37) -> 0
F64: Total Hours for current period | H64: =SUM(H52:H63) -> 0
F66: Total Hours for semester | H66: =H64+'Rpt. 4'!H66 -> 0
C68: Student Signature: | D68: _______________________________________ | F68: Date: ____________
C69: Electronic signature/typed name is fine. By signing/typing your name, you are verifying your recorded hours and activities are true and accurate.
C71: Supervisor Signature: | D71: _____________________________________ | F71: Date: ____________
C72: Electronic signature/typed name is fine. By signing/typing your name, you are verifying that the student's recorded hours and activities look true and accurate.
C75: Hours Required for Credit | D75: Externship | E75: Externship Advanced
C76: 2 | D76: 73 | E76: 85
C77: 3 | D77: 116 | E77: 127
C78: 4 | D78: 158 | E78: 170
C79: 5 | D79: 201 | E79: 213
C80: 6 | D80: 243 | E80: 255
C81: 9 | D81: 371 | E81: 383
C82: 10 | D82: 413 | E82: 425
C83: 11 | D83: 456 | E83: 468
C84: 12 | D84: 498 | E84: 510

Sheet Rpt. 6
B1: Texas A&M University School of Law
B2: Extern Program Timesheet
C6: ='Rpt. 1'!C6 -> [Type name] | F6: ='Rpt. 1'!F6 -> [Type Name]
C7: Student's Name | F7: Supervising Attorney's Name
C9: Report for period beginning | E9: and ending
B11: Date | C11: Issue/Matter | D11: Description of work performed | G11: Code | H11: Time
G38: Total Hours for the Period: | H38: =SUM(H12:H37) -> 0
B41: Activity Codes
B42: 1. Conference with Supervisor | D42: 6. Investigative & Fact-Finding | F42: 12. Other (Specify)
B43: 2. Conference with Client | D43: 7. Observation
B44: 3. Conference with Other | D44: 8. Participant, Courtroom
B45: 4. Research & Briefing | D45: 9. Participant, Non-Courtroom
B46: 5. Preparation of Pleadings, Transactional & | D46: 10. Organization Support Work
B47: Other Documents | D47: 11. Clerical
B50: Summary of Hours Worked:
B51: Code | H51: Hours
B52: =B42 -> 1. Conference with Supervisor | H52: =SUMIF($G$12:$G$37, "1", $H$12:$H$37) -> 0
B53: =B43 -> 2. Conference with Client | H53: =SUMIF($G$12:$G$37, "2", $H$12:$H$37) -> 0
B54: =B44 -> 3. Conference with Other | H54: =SUMIF($G$12:$G$37, "3", $H$12:$H$37) -> 0
B55: =B45 -> 4. Research & Briefing | H55: =SUMIF($G$12:$G$37, "4", $H$12:$H$37) -> 0
B56: =CONCATENATE(B46," ",B47) -> 5. Preparation of Pleadings, Transactional & Other Documents | H56: =SUMIF($G$12:$G$37, "5", $H$12:$H$37) -> 0
B57: =D42 -> 6. Investigative & Fact-Finding | H57: =SUMIF($G$12:$G$37, "6", $H$12:$H$37) -> 0
B58: =D43 -> 7. Observation | H58: =SUMIF($G$12:$G$37, "7", $H$12:$H$37) -> 0
B59: =D44 -> 8. Participant, Courtroom | H59: =SUMIF($G$12:$G$37, "8", $H$12:$H$37) -> 0
B60: =D45 -> 9. Participant, Non-Courtroom | H60: =SUMIF($G$12:$G$37, "9", $H$12:$H$37) -> 0
B61: =D46 -> 10. Organization Support Work | H61: =SUMIF($G$12:$G$37, "10", $H$12:$H$37) -> 0
B62: =D47 -> 11. Clerical | H62: =SUMIF($G$12:$G$37, "11", $H$12:$H$37) -> 0
B63: =F42 -> 12. Other (Specify) | H63: =SUMIF($G$12:$G$37, "12", $H$12:$H$37) -> 0
F64: Total Hours for current period | H64: =SUM(H52:H63) -> 0
F66: Total Hours for semester | H66: =H64+'Rpt. 5'!H66 -> 0
C68: Student Signature: | D68: _______________________________________ | F68: Date: ____________
C69: Electronic signature/typed name is fine. By signing/typing your name, you are verifying your recorded hours and activities are true and accurate.
C71: Supervisor Signature: | D71: _____________________________________ | F71: Date: ____________
C72: Electronic signature/typed name is fine. By signing/typing your name, you are verifying that the student's recorded hours and activities look true and accurate.
C75: Hours Required for Credit | D75: Externship | E75: Externship Advanced
C76: 2 | D76: 73 | E76: 85
C77: 3 | D77: 116 | E77: 127
C78: 4 | D78: 158 | E78: 170
C79: 5 | D79: 201 | E79: 213
C80: 6 | D80: 243 | E80: 255
C81: 9 | D81: 371 | E81: 383
C82: 10 | D82: 413 | E82: 425
C83: 11 | D83: 456 | E83: 468
C84: 12 | D84: 498 | E84: 510

Sheet Rpt. 7
B1: Texas A&MUniversity School of Law
B2: Extern Program Timesheet
C6: ='Rpt. 1'!C6 -> [Type name] | F6: ='Rpt. 1'!F6 -> [Type Name]
C7: Student's Name | F7: Supervising Attorney's Name
C9: Report for period beginning | E9: and ending
B11: Date | C11: Issue/Matter | D11: Description of work performed | G11: Code | H11: Time
G38: Total Hours for the Period: | H38: =SUM(H12:H37) -> 0
B41: Activity Codes
B42: 1. Conference with Supervisor | D42: 6. Investigative & Fact-Finding | F42: 12. Other (Specify)
B43: 2. Conference with Client | D43: 7. Observation
B44: 3. Conference with Other | D44: 8. Participant, Courtroom
B45: 4. Research & Briefing | D45: 9. Participant, Non-Courtroom
B46: 5. Preparation of Pleadings, Transactional & | D46: 10. Organization Support Work
B47: Other Documents | D47: 11. Clerical
B50: Summary of Hours Worked:
B51: Code | H51: Hours
B52: =B42 -> 1. Conference with Supervisor | H52: =SUMIF($G$12:$G$37, "1", $H$12:$H$37) -> 0
B53: =B43 -> 2. Conference with Client | H53: =SUMIF($G$12:$G$37, "2", $H$12:$H$37) -> 0
B54: =B44 -> 3. Conference with Other | H54: =SUMIF($G$12:$G$37, "3", $H$12:$H$37) -> 0
B55: =B45 -> 4. Research & Briefing | H55: =SUMIF($G$12:$G$37, "4", $H$12:$H$37) -> 0
B56: =CONCATENATE(B46," ",B47) -> 5. Preparation of Pleadings, Transactional & Other Documents | H56: =SUMIF($G$12:$G$37, "5", $H$12:$H$37) -> 0
B57: =D42 -> 6. Investigative & Fact-Finding | H57: =SUMIF($G$12:$G$37, "6", $H$12:$H$37) -> 0
B58: =D43 -> 7. Observation | H58: =SUMIF($G$12:$G$37, "7", $H$12:$H$37) -> 0
B59: =D44 -> 8. Participant, Courtroom | H59: =SUMIF($G$12:$G$37, "8", $H$12:$H$37) -> 0
B60: =D45 -> 9. Participant, Non-Courtroom | H60: =SUMIF($G$12:$G$37, "9", $H$12:$H$37) -> 0
B61: =D46 -> 10. Organization Support Work | H61: =SUMIF($G$12:$G$37, "10", $H$12:$H$37) -> 0
B62: =D47 -> 11. Clerical | H62: =SUMIF($G$12:$G$37, "11", $H$12:$H$37) -> 0
B63: =F42 -> 12. Other (Specify) | H63: =SUMIF($G$12:$G$37, "12", $H$12:$H$37) -> 0
F64: Total Hours for current period | H64: =SUM(H52:H63) -> 0
F66: Total Hours for semester | H66: =H64+'Rpt. 6'!H66 -> 0
C68: Student Signature: | D68: _______________________________________ | F68: Date: ____________
C69: Electronic signature/typed name is fine. By signing/typing your name, you are verifying your recorded hours and activities are true and accurate.
C71: Supervisor Signature: | D71: _____________________________________ | F71: Date: ____________
C72: Electronic signature/typed name is fine. By signing/typing your name, you are verifying that the student's recorded hours and activities look true and accurate.
C75: Hours Required for Credit | D75: Externship | E75: Externship Advanced
C76: 2 | D76: 73 | E76: 85
C77: 3 | D77: 116 | E77: 127
C78: 4 | D78: 158 | E78: 170
C79: 5 | D79: 201 | E79: 213
C80: 6 | D80: 243 | E80: 255
C81: 9 | D81: 371 | E81: 383
C82: 10 | D82: 413 | E82: 425
C83: 11 | D83: 456 | E83: 468
C84: 12 | D84: 498 | E84: 510
